BEGIN:VCALENDAR
VERSION:2.0
PRODID:-//Wild Soul Tribe - ECPv6.15.20//NONSGML v1.0//EN
CALSCALE:GREGORIAN
METHOD:PUBLISH
X-WR-CALNAME:Wild Soul Tribe
X-ORIGINAL-URL:https://the-wild-soul-tribe.com
X-WR-CALDESC:Events for Wild Soul Tribe
REFRESH-INTERVAL;VALUE=DURATION:PT1H
X-Robots-Tag:noindex
X-PUBLISHED-TTL:PT1H
BEGIN:VTIMEZONE
TZID:UTC
BEGIN:STANDARD
TZOFFSETFROM:+0000
TZOFFSETTO:+0000
TZNAME:UTC
DTSTART:20240101T000000
END:STANDARD
END:VTIMEZONE
BEGIN:VEVENT
DTSTART;TZID=UTC:20260416T100000
DTEND;TZID=UTC:20260420T170000
DTSTAMP:20260422T173431
CREATED:20250814T093632Z
LAST-MODIFIED:20260402T102752Z
UID:4986-1776333600-1776704400@the-wild-soul-tribe.com
SUMMARY:Sweat Lodge Keeper Training
DESCRIPTION:Welcome Wild Souled One\, I’m so pleased that you have been called here to explore the exciting possibilities of pouring the sweat\, in both the Inipi and Tigh N’allais traditions. \nThe Sweat Lodge is an ancient and incredibly powerful ritual that is found historically in various forms around the world\, and is probably the most impactful ceremony I’ve carried – it’s deep juicy medicine\, and  medicine the world needs right now. \nThose that carry it forward\, carry a special and rare gift\, both for themselves and others. \nFind all the details of this training here\,  or if you’d like to be kept in the loop for future opportunities you can leave your details below. \n			\n				ALL THE DETAILS\n			\n				\n				\n				\n				\n				Future Training Opporuniies\nTo be among the first to access bookings when they open\, alongside exclusive earlybird pricing\, leave your details now. \nWe'll send you information on reserving your space the second bookings open. \nYou'll receive occasional updates on what's happening at the Wild Soul Tribe too\, but we'll never get spammy with you. \n\n				\n				\n					\n						\n						\n							Congratulations! You're on the list - keep an eye on your inbox for more details\n						\n						\n							\n					\n						First Name\n						\n					 \n							\n					\n						Last Name\n						\n					 \n							\n					\n						Email\n						\n					 \n							\n							\n					\n						\n							\n							STAY IN-THE-LOOP\n						\n					 \n							\n						\n						\n						\n						\n						\n						\n					\n				\n			\n			\n				\n				\n				\n				\n			\n				\n				\n				\n				\n				\n				\n			\n				\n				\n				\n				\n				\n			\n				\n				\n				\n				\n				\n			\n				\n				\n				\n				\n			\n				\n				\n			\nLottieUnpacking the re-membering of land\, lineage and the fire inside\, Lottie is the founder here at the Wild Soul Tribe. \nLottie believes in walking the path less travels\, which has taken her from living in Burkina Faso\, to trekking some of the biggest mountains in the world. \nNow growing within her Irish heritage\, Lottie supports others to experience a little adventure AND inner peace.
URL:https://the-wild-soul-tribe.com/event/sweat-lodge-keeper-training/
LOCATION:Wild Soul Retreat Centre\, Stalleen Rd\, Donore\, Co Meath\, A92P6R0\, Ireland
CATEGORIES:Certification,training
ATTACH;FMTTYPE=image/jpeg:https://the-wild-soul-tribe.com/wp-content/uploads/2025/08/IMG_5441.jpeg
END:VEVENT
BEGIN:VEVENT
DTSTART;TZID=UTC:20251012T100000
DTEND;TZID=UTC:20251012T180000
DTSTAMP:20260422T173431
CREATED:20250814T102652Z
LAST-MODIFIED:20250814T111629Z
UID:4996-1760263200-1760292000@the-wild-soul-tribe.com
SUMMARY:Hawthorn Tea Ceremony Facilitator Training
DESCRIPTION:Welcome Wild Souled One! \nI’m excited you want to explore the possibility of working with a native heart medicine\, as well as the sacred plant that holds the gateway to the otherworlds here in Ireland. \nDuring our day together you will learn more about the history of the Hawthorn (Huath) and how you can hold it for others to receive heart healing in the most beautiful of ways. \nYou will be supported and encouraged to build sacred relationship with Hawthorn\, as well as deliver the tea ceremony for your tribe. \n			\n				\n				\n				\n				\n				\n			\n				\n				\n				\n				\n				EVEN OUR VENUE CALLS IN THE MAGIC \nIts stunning vistas and cosy nooks will leave you thinking you’ve stepped into your own Wonderland. \n We are able to enjoy a rural setting where magic abounds\, and your connection with he land and plants is nurtured. \nSituated just minutes from Brú Na Boine (Newgrange)\, and within 30  minutes of Dublin Airport\, the Hill of Tara\, Loughcrew\, and many wild beaches\, our Wild Souled venue is nestled amid many an Irish myth and legend. \nAs this is a day course there is no expectation on you to stay\, however\, if you would like to extend your time here accommodation with breakfast is available on site from €75/night. \n  \n			\n				\n				\n				\n				\n				\n			\n			\n				\n				\n				\n				\n			\n				\n				\n			\nLottieUnpacking the re-membering of land\, lineage and the fire inside\, Lottie is the founder here at the Wild Soul Tribe. \nLottie believes in walking the path less travels\, which has taken her from living in Burkina Faso\, to trekking some of the biggest mountains in the world. \nNow growing within her Irish heritage\, Lottie supports others to experience a little adventure AND inner peace. \nthe-wild-soul-tribe.com
URL:https://the-wild-soul-tribe.com/event/hawthorn-tea-ceremony-facilitator-training/
LOCATION:Wild Soul Retreat Centre\, Stalleen Rd\, Donore\, Co Meath\, A92P6R0\, Ireland
CATEGORIES:Certification,live,training
ATTACH;FMTTYPE=image/jpeg:https://the-wild-soul-tribe.com/wp-content/uploads/2025/08/IMG_5445.jpeg
END:VEVENT
BEGIN:VEVENT
DTSTART;TZID=UTC:20250417T170000
DTEND;TZID=UTC:20250422T130000
DTSTAMP:20260422T173431
CREATED:20240403T135544Z
LAST-MODIFIED:20250315T132228Z
UID:2446-1744909200-1745326800@the-wild-soul-tribe.com
SUMMARY:Wild Soul Spreacha ~ Master Firewalk Instructor Training
DESCRIPTION:I’m super-chuffed that your wild soul has been called here to explore the exciting possibilities of Master Firewalk Instructor Training. \nFrom the Irish word for sparks the WILD SOUL SPREACHA ~ MASTER FIREWALK INSTRUCTOR PROGRAM is an invitation to step into mentorship to develop and deliver your own successful and exhilarating Firewalk Instructor Certification Trainings\, the Wild Soul Way… Fully supported every step of the way. \nWhy not click through here to find out all the details of this phenomenal course\, and\, if you have any questions\, book a quick call to speak directly with Lottie to find out a bit more. \n			\n			\n				\n				\n				\n				\n			\n				\n				\n				\n				\n				\n				\n				\n				\n				\n				\n				\n			\n				\n				\n				\n				\n				All of our Certification courses\, including WILD SOUL SPREACHA ~ MASTER FIREWALK INSTRUCTOR PROGRAM\, are fully accredited by the IPHM. As well as creating peace of mind about the exceptional high standards of our training programs\, student benefits include guaranteed practitioner level membership upon completion of your training with us.  \n			\n			\n				\n				\n				\n				\n			\n				\n				\n			\nLottieUnpacking the re-membering of land\, lineage and the fire inside\, Lottie is the founder here at the Wild Soul Tribe. \nLottie believes in walking the path less travels\, which has taken her from living in Burkina Faso\, to trekking some of the biggest mountains in the world. \nNow growing within her Irish heritage\, Lottie supports others to experience a little adventure AND inner peace. \nthe-wild-soul-tribe.com
URL:https://the-wild-soul-tribe.com/event/wild-soul-spreacha-master-firewalk-instructor-training-2/
LOCATION:mayo glamping\, keelogues old\, ballyvary.\, Castlebar\, Co. Mayo\, Ireland
CATEGORIES:Certification,training
ATTACH;FMTTYPE=image/png:https://the-wild-soul-tribe.com/wp-content/uploads/2024/03/Copy-of-full-moon-imaginarium-1600-x-900-px-1.png
END:VEVENT
END:VCALENDAR