BEGIN:VCALENDAR
VERSION:2.0
PRODID:-//Wild Soul Tribe - ECPv6.15.20//NONSGML v1.0//EN
CALSCALE:GREGORIAN
METHOD:PUBLISH
X-WR-CALNAME:Wild Soul Tribe
X-ORIGINAL-URL:https://the-wild-soul-tribe.com
X-WR-CALDESC:Events for Wild Soul Tribe
REFRESH-INTERVAL;VALUE=DURATION:PT1H
X-Robots-Tag:noindex
X-PUBLISHED-TTL:PT1H
BEGIN:VTIMEZONE
TZID:UTC
BEGIN:STANDARD
TZOFFSETFROM:+0000
TZOFFSETTO:+0000
TZNAME:UTC
DTSTART:20230101T000000
END:STANDARD
END:VTIMEZONE
BEGIN:VEVENT
DTSTART;TZID=UTC:20240125T193000
DTEND;TZID=UTC:20240125T210000
DTSTAMP:20260423T013625
CREATED:20231213T110437Z
LAST-MODIFIED:20231213T110919Z
UID:1703-1706211000-1706216400@the-wild-soul-tribe.com
SUMMARY:Full Moon Imaginarium - Wolf Moon
DESCRIPTION:I’m super-chuffed that your wild soul has been called here to explore the exciting possibilities of the Wolf Moon\, Full Moon this January and the co-creation energy it brings. \nLET’S COME TOGETHER TO DREAM THE DREAMS INTO REALITY. \nThis event is available exclusively to members of the Wild Soul Tribe – and we’d love to have you join us. \nWhy not click through here to find out how you can become a part of this safe space of powerful renewal\, healing and celebration ~ WHERE ALL WILD SOULS ARE WELCOMED\, NURTURED\, AND ENCOURAGED TO THRIVE.
URL:https://the-wild-soul-tribe.com/event/full-moon-imaginarium-wolf-moon/
LOCATION:Online
CATEGORIES:online,Wild Soul Tribe
ATTACH;FMTTYPE=image/png:https://the-wild-soul-tribe.com/wp-content/uploads/2023/12/full-moon-imaginarium-1600-x-900-px.png
ORGANIZER;CN="The Wild Soul Tribe":MAILTO:team@the-wild-soul-tribe.com
END:VEVENT
END:VCALENDAR